BEGIN:VCALENDAR
PRODID:-//HKUST Drupal Platform//EN
VERSION:2.0
BEGIN:VTIMEZONE
TZID:Asia/Hong_Kong
BEGIN:STANDARD
DTSTART:20071104T020000
TZOFFSETFROM:+0700
TZOFFSETTO:+0800
TZNAME:HKT
END:STANDARD
END:VTIMEZONE
BEGIN:VEVENT
DTSTAMP;TZID=Asia/Hong_Kong:20260420T142917
DTSTART;TZID=Asia/Hong_Kong:20170113T110000
DTEND;TZID=Asia/Hong_Kong:20170113T140000
LOCATION:Room 2463 (Lifts 25-26), 2/F Academic Building, HKUST
SUMMARY:PhD in Electronic and Computer Engineering - Signal Discontinuity Handling in Modern Video / Image Coding System
UID:26625
END:VEVENT
END:VCALENDAR