BEGIN:VCALENDAR
PRODID:-//HKUST Drupal Platform//EN
VERSION:2.0
BEGIN:VTIMEZONE
TZID:Asia/Hong_Kong
BEGIN:STANDARD
DTSTART:20071104T020000
TZOFFSETFROM:+0700
TZOFFSETTO:+0800
TZNAME:HKT
END:STANDARD
END:VTIMEZONE
BEGIN:VEVENT
DTSTAMP;TZID=Asia/Hong_Kong:20260420T160510
DTSTART;TZID=Asia/Hong_Kong:20170124T140000
DTEND;TZID=Asia/Hong_Kong:20170124T160000
LOCATION:Room 3494 (lifts 25/26)
SUMMARY:PhD in Computer Science and Engineering - Query Processing in Uncertain Graphs
UID:26561
END:VEVENT
END:VCALENDAR