BEGIN:VCALENDAR
PRODID:-//HKUST Drupal Platform//EN
VERSION:2.0
BEGIN:VTIMEZONE
TZID:Asia/Hong_Kong
BEGIN:STANDARD
DTSTART:20071104T020000
TZOFFSETFROM:+0700
TZOFFSETTO:+0800
TZNAME:HKT
END:STANDARD
END:VTIMEZONE
BEGIN:VEVENT
DTSTAMP;TZID=Asia/Hong_Kong:20260420T160510
DTSTART;TZID=Asia/Hong_Kong:20170224T100000
DTEND;TZID=Asia/Hong_Kong:20170224T130000
LOCATION:Room 2515 (Lifts 25-26), 2/F Academic Building, HKUST
SUMMARY:PhD in Electronic & Comp Engg - On the Cross-layer Design for Optimal Resource Planning in the Cellular Access Networks
UID:26481
END:VEVENT
END:VCALENDAR