BEGIN:VCALENDAR
PRODID:-//HKUST Drupal Platform//EN
VERSION:2.0
BEGIN:VTIMEZONE
TZID:Asia/Hong_Kong
BEGIN:STANDARD
DTSTART:20071104T020000
TZOFFSETFROM:+0700
TZOFFSETTO:+0800
TZNAME:HKT
END:STANDARD
END:VTIMEZONE
BEGIN:VEVENT
DTSTAMP;TZID=Asia/Hong_Kong:20260420T152214
DTSTART;TZID=Asia/Hong_Kong:20170313T000000
DTEND;TZID=Asia/Hong_Kong:20170428T235900
LOCATION:HKUST Campus
SUMMARY:HKUST Arts Festival 2017 – Art · Sharing 藝術 · 共賞[享]
UID:26437
END:VEVENT
END:VCALENDAR