BEGIN:VCALENDAR
PRODID:-//HKUST Drupal Platform//EN
VERSION:2.0
BEGIN:VTIMEZONE
TZID:Asia/Hong_Kong
BEGIN:STANDARD
DTSTART:20071104T020000
TZOFFSETFROM:+0700
TZOFFSETTO:+0800
TZNAME:HKT
END:STANDARD
END:VTIMEZONE
BEGIN:VEVENT
DTSTAMP;TZID=Asia/Hong_Kong:20260420T202042
DTSTART;TZID=Asia/Hong_Kong:20170425T100000
DTEND;TZID=Asia/Hong_Kong:20170425T130000
LOCATION:Rm 5045, 5/F, (Lift 1), LSK, HKUST
SUMMARY:MPhil in Management - When and Why Does Supervisor-Directed Citizenship Behavior Lead to Abusive Supervision: The Role of Power and Power Distance
UID:26309
END:VEVENT
END:VCALENDAR