BEGIN:VCALENDAR
PRODID:-//HKUST Drupal Platform//EN
VERSION:2.0
BEGIN:VTIMEZONE
TZID:Asia/Hong_Kong
BEGIN:STANDARD
DTSTART:20071104T020000
TZOFFSETFROM:+0700
TZOFFSETTO:+0800
TZNAME:HKT
END:STANDARD
END:VTIMEZONE
BEGIN:VEVENT
DTSTAMP;TZID=Asia/Hong_Kong:20260420T185844
DTSTART;TZID=Asia/Hong_Kong:20170426T153000
DTEND;TZID=Asia/Hong_Kong:20170426T183000
LOCATION:Room1504 (Lifts 25-26), 1/F Academic Building, HKUST
SUMMARY:PhD in Mathematics - On Vertex Operator Algebras Associated to Jordan Algebras
UID:26300
END:VEVENT
END:VCALENDAR