BEGIN:VCALENDAR
PRODID:-//HKUST Drupal Platform//EN
VERSION:2.0
BEGIN:VTIMEZONE
TZID:Asia/Hong_Kong
BEGIN:STANDARD
DTSTART:20071104T020000
TZOFFSETFROM:+0700
TZOFFSETTO:+0800
TZNAME:HKT
END:STANDARD
END:VTIMEZONE
BEGIN:VEVENT
DTSTAMP;TZID=Asia/Hong_Kong:20260420T160511
DTSTART;TZID=Asia/Hong_Kong:20170428T090000
DTEND;TZID=Asia/Hong_Kong:20170428T120000
LOCATION:Lecture Theatre H, Academic Concourse, HKUST
SUMMARY:PhD in Bioengineering - Beyond Conventional Peptide Identification – Cross-Linked Peptides Identification and Unlimited Post-Translational Modification Identification
UID:26290
END:VEVENT
END:VCALENDAR