BEGIN:VCALENDAR
PRODID:-//HKUST Drupal Platform//EN
VERSION:2.0
BEGIN:VTIMEZONE
TZID:Asia/Hong_Kong
BEGIN:STANDARD
DTSTART:20071104T020000
TZOFFSETFROM:+0700
TZOFFSETTO:+0800
TZNAME:HKT
END:STANDARD
END:VTIMEZONE
BEGIN:VEVENT
DTSTAMP;TZID=Asia/Hong_Kong:20260420T160510
DTSTART;TZID=Asia/Hong_Kong:20170502T143000
DTEND;TZID=Asia/Hong_Kong:20170502T173000
LOCATION:Room 4472 (Lifts 25-26), 4/F Academic Building, HKUST
SUMMARY:PhD in Electronic & Comp Engg - Fabrication of Highly Efficient Quantum-Dots Light-Emitting Diodes (QLEDs): Materials and Device Structure
UID:26278
END:VEVENT
END:VCALENDAR