BEGIN:VCALENDAR
PRODID:-//HKUST Drupal Platform//EN
VERSION:2.0
BEGIN:VTIMEZONE
TZID:Asia/Hong_Kong
BEGIN:STANDARD
DTSTART:20071104T020000
TZOFFSETFROM:+0700
TZOFFSETTO:+0800
TZNAME:HKT
END:STANDARD
END:VTIMEZONE
BEGIN:VEVENT
DTSTAMP;TZID=Asia/Hong_Kong:20260420T155647
DTSTART;TZID=Asia/Hong_Kong:20170515T100000
DTEND;TZID=Asia/Hong_Kong:20170515T130000
LOCATION:Room 4472 (Lifts 25-26), 4/F Academic Building, HKUST
SUMMARY:PhD in Electronic and Computer Engineering - Developmental Models of Motion Perception and Tracking Eye Movements
UID:26228
END:VEVENT
END:VCALENDAR