BEGIN:VCALENDAR
PRODID:-//HKUST Drupal Platform//EN
VERSION:2.0
BEGIN:VTIMEZONE
TZID:Asia/Hong_Kong
BEGIN:STANDARD
DTSTART:20071104T020000
TZOFFSETFROM:+0700
TZOFFSETTO:+0800
TZNAME:HKT
END:STANDARD
END:VTIMEZONE
BEGIN:VEVENT
DTSTAMP;TZID=Asia/Hong_Kong:20260420T152254
DTSTART;TZID=Asia/Hong_Kong:20170524T100000
DTEND;TZID=Asia/Hong_Kong:20170524T120000
LOCATION:Room 3301, Academic Building (Lifts no. 17 - 18)
SUMMARY:MPhil in Humanities - Sustaining a “Village Community” in Urban Hong Kong: The Study of Fire Dragon Dance in Pokfulam Village
UID:26186
END:VEVENT
END:VCALENDAR