BEGIN:VCALENDAR
PRODID:-//HKUST Drupal Platform//EN
VERSION:2.0
BEGIN:VTIMEZONE
TZID:Asia/Hong_Kong
BEGIN:STANDARD
DTSTART:20071104T020000
TZOFFSETFROM:+0700
TZOFFSETTO:+0800
TZNAME:HKT
END:STANDARD
END:VTIMEZONE
BEGIN:VEVENT
DTSTAMP;TZID=Asia/Hong_Kong:20260420T152255
DTSTART;TZID=Asia/Hong_Kong:20170607T100000
DTEND;TZID=Asia/Hong_Kong:20170607T130000
LOCATION:Rm 5047 (Lifts 1-2), 5/F, Academic Building, HKUST
SUMMARY:MPhil in Management - The Best of Intentions and the Worst of Results: Monochronicity and the Employment of Feedback Avoiding Behavior as a Temporal Self-Regulatory Strategy
UID:26126
END:VEVENT
END:VCALENDAR