BEGIN:VCALENDAR
PRODID:-//HKUST Drupal Platform//EN
VERSION:2.0
BEGIN:VTIMEZONE
TZID:Asia/Hong_Kong
BEGIN:STANDARD
DTSTART:20071104T020000
TZOFFSETFROM:+0700
TZOFFSETTO:+0800
TZNAME:HKT
END:STANDARD
END:VTIMEZONE
BEGIN:VEVENT
DTSTAMP;TZID=Asia/Hong_Kong:20260420T171533
DTSTART;TZID=Asia/Hong_Kong:20170607T130000
DTEND;TZID=Asia/Hong_Kong:20170607T160000
LOCATION:Room 2612B (Lifts 31-32), 2/F Academic Building, HKUST
SUMMARY:PhD in Mechanical Engineering - Automatic Generation of Five-axis Continuous Sweep Inspection Paths for Free-form Surfaces
UID:26122
END:VEVENT
END:VCALENDAR