BEGIN:VCALENDAR
PRODID:-//HKUST Drupal Platform//EN
VERSION:2.0
BEGIN:VTIMEZONE
TZID:Asia/Hong_Kong
BEGIN:STANDARD
DTSTART:20071104T020000
TZOFFSETFROM:+0700
TZOFFSETTO:+0800
TZNAME:HKT
END:STANDARD
END:VTIMEZONE
BEGIN:VEVENT
DTSTAMP;TZID=Asia/Hong_Kong:20260420T172725
DTSTART;TZID=Asia/Hong_Kong:20170612T140000
DTEND;TZID=Asia/Hong_Kong:20170612T160000
LOCATION:Room 5047 Lee Shau Kee Business Building
SUMMARY:MPhil in Economics - Multidimensional Information Acquisition
UID:26098
END:VEVENT
END:VCALENDAR