BEGIN:VCALENDAR
PRODID:-//HKUST Drupal Platform//EN
VERSION:2.0
BEGIN:VTIMEZONE
TZID:Asia/Hong_Kong
BEGIN:STANDARD
DTSTART:20071104T020000
TZOFFSETFROM:+0700
TZOFFSETTO:+0800
TZNAME:HKT
END:STANDARD
END:VTIMEZONE
BEGIN:VEVENT
DTSTAMP;TZID=Asia/Hong_Kong:20260420T171531
DTSTART;TZID=Asia/Hong_Kong:20170613T100000
DTEND;TZID=Asia/Hong_Kong:20170613T130000
LOCATION:Room 4472, near lifts 25&26
SUMMARY:PhD in Mathematics - Threshold Dynamics Method: Theories, Algorithms, and Applications
UID:26092
END:VEVENT
END:VCALENDAR