BEGIN:VCALENDAR
PRODID:-//HKUST Drupal Platform//EN
VERSION:2.0
BEGIN:VTIMEZONE
TZID:Asia/Hong_Kong
BEGIN:STANDARD
DTSTART:20071104T020000
TZOFFSETFROM:+0700
TZOFFSETTO:+0800
TZNAME:HKT
END:STANDARD
END:VTIMEZONE
BEGIN:VEVENT
DTSTAMP;TZID=Asia/Hong_Kong:20260420T202128
DTSTART;TZID=Asia/Hong_Kong:20170617T143000
DTEND;TZID=Asia/Hong_Kong:20170617T173000
LOCATION:Room 3301 (Lift no. 2) 3/F, Academic Building
SUMMARY:MPhil in Humanities - The Cultural Scripts of Five Apologetic Expressions of Japanese
UID:26067
END:VEVENT
END:VCALENDAR