BEGIN:VCALENDAR
PRODID:-//HKUST Drupal Platform//EN
VERSION:2.0
BEGIN:VTIMEZONE
TZID:Asia/Hong_Kong
BEGIN:STANDARD
DTSTART:20071104T020000
TZOFFSETFROM:+0700
TZOFFSETTO:+0800
TZNAME:HKT
END:STANDARD
END:VTIMEZONE
BEGIN:VEVENT
DTSTAMP;TZID=Asia/Hong_Kong:20260420T202105
DTSTART;TZID=Asia/Hong_Kong:20170619T153000
DTEND;TZID=Asia/Hong_Kong:20170619T173000
LOCATION:Room 3301, Academic Building (Lift no.2)
SUMMARY:PhD in Humanities - From the Question of Time to the Time of Questioning: Husserl and the Ambiguity of Time
UID:26055
END:VEVENT
END:VCALENDAR