BEGIN:VCALENDAR
PRODID:-//HKUST Drupal Platform//EN
VERSION:2.0
BEGIN:VTIMEZONE
TZID:Asia/Hong_Kong
BEGIN:STANDARD
DTSTART:20071104T020000
TZOFFSETFROM:+0700
TZOFFSETTO:+0800
TZNAME:HKT
END:STANDARD
END:VTIMEZONE
BEGIN:VEVENT
DTSTAMP;TZID=Asia/Hong_Kong:20260420T202012
DTSTART;TZID=Asia/Hong_Kong:20170626T140000
DTEND;TZID=Asia/Hong_Kong:20170626T170000
LOCATION:Room 2302 (near lift no.17-18), HKUST
SUMMARY:MPhil in Marine Environmental Sci - Isolation and Identification of Polyketide and Polypeptide Antibiotics Produced by Paenibacillus
UID:26010
END:VEVENT
END:VCALENDAR