BEGIN:VCALENDAR
PRODID:-//HKUST Drupal Platform//EN
VERSION:2.0
BEGIN:VTIMEZONE
TZID:Asia/Hong_Kong
BEGIN:STANDARD
DTSTART:20071104T020000
TZOFFSETFROM:+0700
TZOFFSETTO:+0800
TZNAME:HKT
END:STANDARD
END:VTIMEZONE
BEGIN:VEVENT
DTSTAMP;TZID=Asia/Hong_Kong:20260420T202013
DTSTART;TZID=Asia/Hong_Kong:20170627T100000
DTEND;TZID=Asia/Hong_Kong:20170627T130000
LOCATION:Rm 4503 (Lifts25/26), 4/F Academic Building, HKUST
SUMMARY:PhD in Chemistry - Elucidating Mechanisms of the Molecular Self-Assembly Processes by Computer Simulations and Kinetic Network Models
UID:26006
END:VEVENT
END:VCALENDAR