BEGIN:VCALENDAR
PRODID:-//HKUST Drupal Platform//EN
VERSION:2.0
BEGIN:VTIMEZONE
TZID:Asia/Hong_Kong
BEGIN:STANDARD
DTSTART:20071104T020000
TZOFFSETFROM:+0700
TZOFFSETTO:+0800
TZNAME:HKT
END:STANDARD
END:VTIMEZONE
BEGIN:VEVENT
DTSTAMP;TZID=Asia/Hong_Kong:20260420T185839
DTSTART;TZID=Asia/Hong_Kong:20170627T143000
DTEND;TZID=Asia/Hong_Kong:20170627T173000
LOCATION:Rm4503 (Lifts 25/26), 4/F Academic Building, HKUST
SUMMARY:MPhil in Chemistry - Interfacing and Nanostructuring Nickel metal for Hydrogen evolution electrocatalysis in alkaline media
UID:26001
END:VEVENT
END:VCALENDAR