BEGIN:VCALENDAR
PRODID:-//HKUST Drupal Platform//EN
VERSION:2.0
BEGIN:VTIMEZONE
TZID:Asia/Hong_Kong
BEGIN:STANDARD
DTSTART:20071104T020000
TZOFFSETFROM:+0700
TZOFFSETTO:+0800
TZNAME:HKT
END:STANDARD
END:VTIMEZONE
BEGIN:VEVENT
DTSTAMP;TZID=Asia/Hong_Kong:20260420T202128
DTSTART;TZID=Asia/Hong_Kong:20170629T100000
DTEND;TZID=Asia/Hong_Kong:20170629T130000
LOCATION:Room 2612B (Lifts 31-32), 2/F Academic Building, HKUST
SUMMARY:MPhil in Computer Science & Engg - Where is your Focus: Personalized Attention
UID:25988
END:VEVENT
END:VCALENDAR