BEGIN:VCALENDAR
PRODID:-//HKUST Drupal Platform//EN
VERSION:2.0
BEGIN:VTIMEZONE
TZID:Asia/Hong_Kong
BEGIN:STANDARD
DTSTART:20071104T020000
TZOFFSETFROM:+0700
TZOFFSETTO:+0800
TZNAME:HKT
END:STANDARD
END:VTIMEZONE
BEGIN:VEVENT
DTSTAMP;TZID=Asia/Hong_Kong:20260420T202042
DTSTART;TZID=Asia/Hong_Kong:20170629T143000
DTEND;TZID=Asia/Hong_Kong:20170629T173000
LOCATION:Room 2571B (Lifts 27-28), 2/F Academic Building, HKUST
SUMMARY:MPhil in Mechanical Engineering - Development of a Robotic System with Stereo Hand-Eye Assistance
UID:25985
END:VEVENT
END:VCALENDAR