BEGIN:VCALENDAR
PRODID:-//HKUST Drupal Platform//EN
VERSION:2.0
BEGIN:VTIMEZONE
TZID:Asia/Hong_Kong
BEGIN:STANDARD
DTSTART:20071104T020000
TZOFFSETFROM:+0700
TZOFFSETTO:+0800
TZNAME:HKT
END:STANDARD
END:VTIMEZONE
BEGIN:VEVENT
DTSTAMP;TZID=Asia/Hong_Kong:20260420T213043
DTSTART;TZID=Asia/Hong_Kong:20170630T110000
DTEND;TZID=Asia/Hong_Kong:20170630T140000
LOCATION:Room 6045 (Lifts 1-2), 6/F,  Lee Shau Kee Business Building, HKUST
SUMMARY:MPhil in Economics - Industrial Interaction and Credit Constraint
UID:25979
END:VEVENT
END:VCALENDAR