BEGIN:VCALENDAR
PRODID:-//HKUST Drupal Platform//EN
VERSION:2.0
BEGIN:VTIMEZONE
TZID:Asia/Hong_Kong
BEGIN:STANDARD
DTSTART:20071104T020000
TZOFFSETFROM:+0700
TZOFFSETTO:+0800
TZNAME:HKT
END:STANDARD
END:VTIMEZONE
BEGIN:VEVENT
DTSTAMP;TZID=Asia/Hong_Kong:20260420T202108
DTSTART;TZID=Asia/Hong_Kong:20170630T150000
DTEND;TZID=Asia/Hong_Kong:20170630T170000
LOCATION:Room 2612B (lifts 31/32)
SUMMARY:MPhil in Computer Science and Engineering - FUSING GEOMAGNETISM AND RF FOR INDOOR LOCALIZATION
UID:25971
END:VEVENT
END:VCALENDAR