BEGIN:VCALENDAR
PRODID:-//HKUST Drupal Platform//EN
VERSION:2.0
BEGIN:VTIMEZONE
TZID:Asia/Hong_Kong
BEGIN:STANDARD
DTSTART:20071104T020000
TZOFFSETFROM:+0700
TZOFFSETTO:+0800
TZNAME:HKT
END:STANDARD
END:VTIMEZONE
BEGIN:VEVENT
DTSTAMP;TZID=Asia/Hong_Kong:20260420T202549
DTSTART;TZID=Asia/Hong_Kong:20170703T143000
DTEND;TZID=Asia/Hong_Kong:20170703T173000
LOCATION:Room 5620 (Lift 31), 5/F Academic Building, HKUST
SUMMARY:PhD in Life Science - Functional ‘Omics’ Approaches to Assess Cell Signaling upon Endogenous Molecule Perturbation
UID:25961
END:VEVENT
END:VCALENDAR