BEGIN:VCALENDAR
PRODID:-//HKUST Drupal Platform//EN
VERSION:2.0
BEGIN:VTIMEZONE
TZID:Asia/Hong_Kong
BEGIN:STANDARD
DTSTART:20071104T020000
TZOFFSETFROM:+0700
TZOFFSETTO:+0800
TZNAME:HKT
END:STANDARD
END:VTIMEZONE
BEGIN:VEVENT
DTSTAMP;TZID=Asia/Hong_Kong:20260420T214845
DTSTART;TZID=Asia/Hong_Kong:20170707T090000
DTEND;TZID=Asia/Hong_Kong:20170707T120000
LOCATION:Room 3401, Academic Building (Lift no. 2)
SUMMARY:MPhil in Humanities - From Cadres to Contemporary Art Collectors in China: The Dynamics Between Collectors, the State, and the Long-term Cultural Implications to the Society
UID:25946
END:VEVENT
END:VCALENDAR