BEGIN:VCALENDAR
PRODID:-//HKUST Drupal Platform//EN
VERSION:2.0
BEGIN:VTIMEZONE
TZID:Asia/Hong_Kong
BEGIN:STANDARD
DTSTART:20071104T020000
TZOFFSETFROM:+0700
TZOFFSETTO:+0800
TZNAME:HKT
END:STANDARD
END:VTIMEZONE
BEGIN:VEVENT
DTSTAMP;TZID=Asia/Hong_Kong:20260420T214846
DTSTART;TZID=Asia/Hong_Kong:20170712T150000
DTEND;TZID=Asia/Hong_Kong:20170712T180000
LOCATION:Room 3301 , Academic Building, (Lift 2), 3/F
SUMMARY:MPhil in Humanities - Displaying the Red Sun: The Making of Mao’s Iconographies, 1937-1956
UID:25919
END:VEVENT
END:VCALENDAR