BEGIN:VCALENDAR
PRODID:-//HKUST Drupal Platform//EN
VERSION:2.0
BEGIN:VTIMEZONE
TZID:Asia/Hong_Kong
BEGIN:STANDARD
DTSTART:20071104T020000
TZOFFSETFROM:+0700
TZOFFSETTO:+0800
TZNAME:HKT
END:STANDARD
END:VTIMEZONE
BEGIN:VEVENT
DTSTAMP;TZID=Asia/Hong_Kong:20260420T214738
DTSTART;TZID=Asia/Hong_Kong:20170714T160000
DTEND;TZID=Asia/Hong_Kong:20170714T170000
LOCATION:Room 2302 (Lifts 17-18) 2/F Academic Building
SUMMARY:MPhil in Environmental Science, Policy and Management - Process and Dynamic Linkage of the Circulation along the Northern South China Sea Shelf
UID:25887
END:VEVENT
END:VCALENDAR