BEGIN:VCALENDAR
PRODID:-//HKUST Drupal Platform//EN
VERSION:2.0
BEGIN:VTIMEZONE
TZID:Asia/Hong_Kong
BEGIN:STANDARD
DTSTART:20071104T020000
TZOFFSETFROM:+0700
TZOFFSETTO:+0800
TZNAME:HKT
END:STANDARD
END:VTIMEZONE
BEGIN:VEVENT
DTSTAMP;TZID=Asia/Hong_Kong:20260420T215421
DTSTART;TZID=Asia/Hong_Kong:20170725T103000
DTEND;TZID=Asia/Hong_Kong:20170725T133000
LOCATION:Room 5554 (Lifts 27-28), 5/F Academic Building, HKUST
SUMMARY:MPhil in Industrial Engg&Log Mgmt - Interaction Effect of Frequency, Velocity, and Amplitude on Vection and Perceived Speed for Yaw and Rolling Visual Oscillation
UID:25844
END:VEVENT
END:VCALENDAR