BEGIN:VCALENDAR
PRODID:-//HKUST Drupal Platform//EN
VERSION:2.0
BEGIN:VTIMEZONE
TZID:Asia/Hong_Kong
BEGIN:STANDARD
DTSTART:20071104T020000
TZOFFSETFROM:+0700
TZOFFSETTO:+0800
TZNAME:HKT
END:STANDARD
END:VTIMEZONE
BEGIN:VEVENT
DTSTAMP;TZID=Asia/Hong_Kong:20260421T004251
DTSTART;TZID=Asia/Hong_Kong:20170726T100000
DTEND;TZID=Asia/Hong_Kong:20170726T120000
LOCATION:Room 3574, Lift 27-28, HKUST
SUMMARY:MPhil in Environmental Engineering - Biochemical Sulfide Potential (BSP) Test for Sulfidogenic Biotechnology Development and Application
UID:25838
END:VEVENT
END:VCALENDAR