BEGIN:VCALENDAR
PRODID:-//HKUST Drupal Platform//EN
VERSION:2.0
BEGIN:VTIMEZONE
TZID:Asia/Hong_Kong
BEGIN:STANDARD
DTSTART:20071104T020000
TZOFFSETFROM:+0700
TZOFFSETTO:+0800
TZNAME:HKT
END:STANDARD
END:VTIMEZONE
BEGIN:VEVENT
DTSTAMP;TZID=Asia/Hong_Kong:20260421T002805
DTSTART;TZID=Asia/Hong_Kong:20170726T100000
DTEND;TZID=Asia/Hong_Kong:20170726T120000
LOCATION:Room 2612B (lifts 31/32)
SUMMARY:PhD in Computer Science and Engineering - CROSS-MATCHING BIG ASTRONOMIC CATALOGS ON HETEROGENEOUS CLUSTERS
UID:25837
END:VEVENT
END:VCALENDAR