BEGIN:VCALENDAR
PRODID:-//HKUST Drupal Platform//EN
VERSION:2.0
BEGIN:VTIMEZONE
TZID:Asia/Hong_Kong
BEGIN:STANDARD
DTSTART:20071104T020000
TZOFFSETFROM:+0700
TZOFFSETTO:+0800
TZNAME:HKT
END:STANDARD
END:VTIMEZONE
BEGIN:VEVENT
DTSTAMP;TZID=Asia/Hong_Kong:20260423T072733
DTSTART;TZID=Asia/Hong_Kong:20170728T100000
DTEND;TZID=Asia/Hong_Kong:20170728T130000
LOCATION:Room 4582 (Lifts 29-30), 4/F Academic Building, HKUST
SUMMARY:MPhil in Chem & Biomolecular Engg - Conductive Polymer-based Binders for Si Anode Electrodes in Lithium Ion Batteries
UID:25825
END:VEVENT
END:VCALENDAR