BEGIN:VCALENDAR
PRODID:-//HKUST Drupal Platform//EN
VERSION:2.0
BEGIN:VTIMEZONE
TZID:Asia/Hong_Kong
BEGIN:STANDARD
DTSTART:20071104T020000
TZOFFSETFROM:+0700
TZOFFSETTO:+0800
TZNAME:HKT
END:STANDARD
END:VTIMEZONE
BEGIN:VEVENT
DTSTAMP;TZID=Asia/Hong_Kong:20260423T072734
DTSTART;TZID=Asia/Hong_Kong:20170728T100000
DTEND;TZID=Asia/Hong_Kong:20170728T130000
LOCATION:Rm 5047, Lee Shau Kee Buismess Building, HKUST
SUMMARY:PhD in Management - Two Studies on Firms\' Technology Entry and Exit Strategy in Transitional Economies: Based on the Organizational Learning Perspective
UID:25824
END:VEVENT
END:VCALENDAR