BEGIN:VCALENDAR
PRODID:-//HKUST Drupal Platform//EN
VERSION:2.0
BEGIN:VTIMEZONE
TZID:Asia/Hong_Kong
BEGIN:STANDARD
DTSTART:20071104T020000
TZOFFSETFROM:+0700
TZOFFSETTO:+0800
TZNAME:HKT
END:STANDARD
END:VTIMEZONE
BEGIN:VEVENT
DTSTAMP;TZID=Asia/Hong_Kong:20260420T215419
DTSTART;TZID=Asia/Hong_Kong:20170731T103000
DTEND;TZID=Asia/Hong_Kong:20170731T133000
LOCATION:Rm4504 (Lifts 25-26), 4/F Academic Building, HKUST
SUMMARY:PhD in Chemistry - Materials and Interface Design for High-performance Perovskite Solar Cells with an Inverted Structure
UID:25805
END:VEVENT
END:VCALENDAR