BEGIN:VCALENDAR
PRODID:-//HKUST Drupal Platform//EN
VERSION:2.0
BEGIN:VTIMEZONE
TZID:Asia/Hong_Kong
BEGIN:STANDARD
DTSTART:20071104T020000
TZOFFSETFROM:+0700
TZOFFSETTO:+0800
TZNAME:HKT
END:STANDARD
END:VTIMEZONE
BEGIN:VEVENT
DTSTAMP;TZID=Asia/Hong_Kong:20260421T002805
DTSTART;TZID=Asia/Hong_Kong:20170801T100000
DTEND;TZID=Asia/Hong_Kong:20170801T130000
LOCATION:Room 4047, Lee Shau Kee Business Building, HKUST
SUMMARY:PhD in Marketing - Three Essays on Self-Control in Food Consumption
UID:25796
END:VEVENT
END:VCALENDAR