BEGIN:VCALENDAR
PRODID:-//HKUST Drupal Platform//EN
VERSION:2.0
BEGIN:VTIMEZONE
TZID:Asia/Hong_Kong
BEGIN:STANDARD
DTSTART:20071104T020000
TZOFFSETFROM:+0700
TZOFFSETTO:+0800
TZNAME:HKT
END:STANDARD
END:VTIMEZONE
BEGIN:VEVENT
DTSTAMP;TZID=Asia/Hong_Kong:20260420T215422
DTSTART;TZID=Asia/Hong_Kong:20170801T100000
DTEND;TZID=Asia/Hong_Kong:20170801T130000
LOCATION:IELM Conference room ,  Room 5554   [Lift 27-28 ]
SUMMARY:PhD in Industrial Engineering and Logistics Management - Vertical stripes within Chinese characters slow down reading speeds : a binocular fixation issue
UID:25793
END:VEVENT
END:VCALENDAR