BEGIN:VCALENDAR
PRODID:-//HKUST Drupal Platform//EN
VERSION:2.0
BEGIN:VTIMEZONE
TZID:Asia/Hong_Kong
BEGIN:STANDARD
DTSTART:20071104T020000
TZOFFSETFROM:+0700
TZOFFSETTO:+0800
TZNAME:HKT
END:STANDARD
END:VTIMEZONE
BEGIN:VEVENT
DTSTAMP;TZID=Asia/Hong_Kong:20260423T072734
DTSTART;TZID=Asia/Hong_Kong:20170802T163000
DTEND;TZID=Asia/Hong_Kong:20170802T173000
LOCATION:Room 2304 (Lifts 17-18 ) 2/F Academic Building
SUMMARY:MPhil in Environmental Science, Policy and Management - Characteristics of Sea-breeze Circulation in Guangdong Province and its Response to Rapid Urbanization in Pearl River Delta Region
UID:25766
END:VEVENT
END:VCALENDAR