BEGIN:VCALENDAR
PRODID:-//HKUST Drupal Platform//EN
VERSION:2.0
BEGIN:VTIMEZONE
TZID:Asia/Hong_Kong
BEGIN:STANDARD
DTSTART:20071104T020000
TZOFFSETFROM:+0700
TZOFFSETTO:+0800
TZNAME:HKT
END:STANDARD
END:VTIMEZONE
BEGIN:VEVENT
DTSTAMP;TZID=Asia/Hong_Kong:20260423T112613
DTSTART;TZID=Asia/Hong_Kong:20170804T100000
DTEND;TZID=Asia/Hong_Kong:20170804T120000
LOCATION:Room 2611 (lifts 31/32)
SUMMARY:MPhil in Computer Science and Engineering - Frequent Item Finding When Obtaining Support is Costly
UID:25745
END:VEVENT
END:VCALENDAR