BEGIN:VCALENDAR
PRODID:-//HKUST Drupal Platform//EN
VERSION:2.0
BEGIN:VTIMEZONE
TZID:Asia/Hong_Kong
BEGIN:STANDARD
DTSTART:20071104T020000
TZOFFSETFROM:+0700
TZOFFSETTO:+0800
TZNAME:HKT
END:STANDARD
END:VTIMEZONE
BEGIN:VEVENT
DTSTAMP;TZID=Asia/Hong_Kong:20260423T061950
DTSTART;TZID=Asia/Hong_Kong:20170807T140000
DTEND;TZID=Asia/Hong_Kong:20170807T170000
LOCATION:LTH (Lift 27-28)
SUMMARY:PhD in Bioengineering - Personalized Microfluidic-Elasto-Filtration for Isolating Circulating Tumor Cells in Peripheral Blood
UID:25718
END:VEVENT
END:VCALENDAR