BEGIN:VCALENDAR
PRODID:-//HKUST Drupal Platform//EN
VERSION:2.0
BEGIN:VTIMEZONE
TZID:Asia/Hong_Kong
BEGIN:STANDARD
DTSTART:20071104T020000
TZOFFSETFROM:+0700
TZOFFSETTO:+0800
TZNAME:HKT
END:STANDARD
END:VTIMEZONE
BEGIN:VEVENT
DTSTAMP;TZID=Asia/Hong_Kong:20260423T061949
DTSTART;TZID=Asia/Hong_Kong:20170808T100000
DTEND;TZID=Asia/Hong_Kong:20170808T130000
LOCATION:LTH (Lift 27-28)
SUMMARY:PhD in Bioengineering - Topographic Modulation of Epithelial Morphogenesis and Mechanics, and Membrane Protein Distribution
UID:25706
END:VEVENT
END:VCALENDAR