BEGIN:VCALENDAR
PRODID:-//HKUST Drupal Platform//EN
VERSION:2.0
BEGIN:VTIMEZONE
TZID:Asia/Hong_Kong
BEGIN:STANDARD
DTSTART:20071104T020000
TZOFFSETFROM:+0700
TZOFFSETTO:+0800
TZNAME:HKT
END:STANDARD
END:VTIMEZONE
BEGIN:VEVENT
DTSTAMP;TZID=Asia/Hong_Kong:20260423T072738
DTSTART;TZID=Asia/Hong_Kong:20170809T150000
DTEND;TZID=Asia/Hong_Kong:20170809T180000
LOCATION:4472, HKUST
SUMMARY:MPhil in Mathematics - Hilbert Space Proof of Cowen-Pommerenke Fixed Point Theorem
UID:25680
END:VEVENT
END:VCALENDAR