BEGIN:VCALENDAR
PRODID:-//HKUST Drupal Platform//EN
VERSION:2.0
BEGIN:VTIMEZONE
TZID:Asia/Hong_Kong
BEGIN:STANDARD
DTSTART:20071104T020000
TZOFFSETFROM:+0700
TZOFFSETTO:+0800
TZNAME:HKT
END:STANDARD
END:VTIMEZONE
BEGIN:VEVENT
DTSTAMP;TZID=Asia/Hong_Kong:20260423T072732
DTSTART;TZID=Asia/Hong_Kong:20170809T150000
DTEND;TZID=Asia/Hong_Kong:20170809T180000
LOCATION:Room 4472 (near lifts 25 & 26)
SUMMARY:MPhil in Mathematics - Hilbert Space Proof of Cowen-Pommerenke Fixed Point Theorems
UID:25677
END:VEVENT
END:VCALENDAR