BEGIN:VCALENDAR
PRODID:-//HKUST Drupal Platform//EN
VERSION:2.0
BEGIN:VTIMEZONE
TZID:Asia/Hong_Kong
BEGIN:STANDARD
DTSTART:20071104T020000
TZOFFSETFROM:+0700
TZOFFSETTO:+0800
TZNAME:HKT
END:STANDARD
END:VTIMEZONE
BEGIN:VEVENT
DTSTAMP;TZID=Asia/Hong_Kong:20260423T072738
DTSTART;TZID=Asia/Hong_Kong:20170810T143000
DTEND;TZID=Asia/Hong_Kong:20170810T173000
LOCATION:Room 2610 (Lifts 31 & 32), 2/F Academic Building, HKUST
SUMMARY:PhD in Electronic and Computer Engineering - Design of Low Complexity and High Throughput Baseband Processing Blocks for 5G Wireless Communication
UID:25664
END:VEVENT
END:VCALENDAR