BEGIN:VCALENDAR
PRODID:-//HKUST Drupal Platform//EN
VERSION:2.0
BEGIN:VTIMEZONE
TZID:Asia/Hong_Kong
BEGIN:STANDARD
DTSTART:20071104T020000
TZOFFSETFROM:+0700
TZOFFSETTO:+0800
TZNAME:HKT
END:STANDARD
END:VTIMEZONE
BEGIN:VEVENT
DTSTAMP;TZID=Asia/Hong_Kong:20260423T090328
DTSTART;TZID=Asia/Hong_Kong:20170814T100000
DTEND;TZID=Asia/Hong_Kong:20170814T130000
LOCATION:Room 2571B (lifts# 27-28), HKUST
SUMMARY:MPhil in Mechanical Engineering - Modeling and Control of 6 Degree-of-freedom Observation Class Autonomous Underwater Vehicle
UID:25629
END:VEVENT
END:VCALENDAR