BEGIN:VCALENDAR
PRODID:-//HKUST Drupal Platform//EN
VERSION:2.0
BEGIN:VTIMEZONE
TZID:Asia/Hong_Kong
BEGIN:STANDARD
DTSTART:20071104T020000
TZOFFSETFROM:+0700
TZOFFSETTO:+0800
TZNAME:HKT
END:STANDARD
END:VTIMEZONE
BEGIN:VEVENT
DTSTAMP;TZID=Asia/Hong_Kong:20260423T090325
DTSTART;TZID=Asia/Hong_Kong:20170815T100000
DTEND;TZID=Asia/Hong_Kong:20170815T130000
LOCATION:Rm4503 (Lifts 25-26), HKUST
SUMMARY:PhD in Chemistry - Development of Novel AIEgens based on Benzylidene-Methyloxazolones and Isoquinolinium Salts and Exploration of their Biological Applications
UID:25617
END:VEVENT
END:VCALENDAR