BEGIN:VCALENDAR
PRODID:-//HKUST Drupal Platform//EN
VERSION:2.0
BEGIN:VTIMEZONE
TZID:Asia/Hong_Kong
BEGIN:STANDARD
DTSTART:20071104T020000
TZOFFSETFROM:+0700
TZOFFSETTO:+0800
TZNAME:HKT
END:STANDARD
END:VTIMEZONE
BEGIN:VEVENT
DTSTAMP;TZID=Asia/Hong_Kong:20260423T090323
DTSTART;TZID=Asia/Hong_Kong:20170816T100000
DTEND;TZID=Asia/Hong_Kong:20170816T130000
LOCATION:Room 2611 (Lifts 31-32), 2/F Academic Building, HKUST
SUMMARY:PhD in Atmospheric Envrl Science - A Numerical Study of Dust Over East Asia: The role of Dust in Ice Nucleation within Clouds and Its Effects on the Regional Weather System
UID:25602
END:VEVENT
END:VCALENDAR