BEGIN:VCALENDAR
PRODID:-//HKUST Drupal Platform//EN
VERSION:2.0
BEGIN:VTIMEZONE
TZID:Asia/Hong_Kong
BEGIN:STANDARD
DTSTART:20071104T020000
TZOFFSETFROM:+0700
TZOFFSETTO:+0800
TZNAME:HKT
END:STANDARD
END:VTIMEZONE
BEGIN:VEVENT
DTSTAMP;TZID=Asia/Hong_Kong:20260423T090324
DTSTART;TZID=Asia/Hong_Kong:20170816T143000
DTEND;TZID=Asia/Hong_Kong:20170816T173000
LOCATION:Room 2302 (Lifts 17-18), 2/F Academic Building, HKUST
SUMMARY:MPhil in Envrl Sci, Policy & Mgmt - A Feasibility Study of Utilizing Big History as a New Pedagogical Framework in Achieving a Paradigm Transition from Environmental Education to Education for Sustainability
UID:25588
END:VEVENT
END:VCALENDAR