BEGIN:VCALENDAR
PRODID:-//HKUST Drupal Platform//EN
VERSION:2.0
BEGIN:VTIMEZONE
TZID:Asia/Hong_Kong
BEGIN:STANDARD
DTSTART:20071104T020000
TZOFFSETFROM:+0700
TZOFFSETTO:+0800
TZNAME:HKT
END:STANDARD
END:VTIMEZONE
BEGIN:VEVENT
DTSTAMP;TZID=Asia/Hong_Kong:20260423T090327
DTSTART;TZID=Asia/Hong_Kong:20170817T100000
DTEND;TZID=Asia/Hong_Kong:20170817T130000
LOCATION:Room 2610 (Lifts 31), 2/F Academic Building, HKUST
SUMMARY:PhD in Mathematics - Introduction of Urban Momentum and Thermal Drag Effects in the Asymmetric Convective Model Version 2 (ACM2) in the Weather Research and Forecasting (WRF) Model
UID:25573
END:VEVENT
END:VCALENDAR