BEGIN:VCALENDAR
PRODID:-//HKUST Drupal Platform//EN
VERSION:2.0
BEGIN:VTIMEZONE
TZID:Asia/Hong_Kong
BEGIN:STANDARD
DTSTART:20071104T020000
TZOFFSETFROM:+0700
TZOFFSETTO:+0800
TZNAME:HKT
END:STANDARD
END:VTIMEZONE
BEGIN:VEVENT
DTSTAMP;TZID=Asia/Hong_Kong:20260423T090327
DTSTART;TZID=Asia/Hong_Kong:20170817T143000
DTEND;TZID=Asia/Hong_Kong:20170817T173000
LOCATION:Rm4503 (Lifts 25-26), 4/F, Academic Building, HKUST
SUMMARY:PhD in Chemistry - Identifying Aristolochic Acids as Novel Environmental and Foodborne Contaminants and their Interaction with Proteins
UID:25563
END:VEVENT
END:VCALENDAR