BEGIN:VCALENDAR
PRODID:-//HKUST Drupal Platform//EN
VERSION:2.0
BEGIN:VTIMEZONE
TZID:Asia/Hong_Kong
BEGIN:STANDARD
DTSTART:20071104T020000
TZOFFSETFROM:+0700
TZOFFSETTO:+0800
TZNAME:HKT
END:STANDARD
END:VTIMEZONE
BEGIN:VEVENT
DTSTAMP;TZID=Asia/Hong_Kong:20260423T090329
DTSTART;TZID=Asia/Hong_Kong:20170817T160000
DTEND;TZID=Asia/Hong_Kong:20170817T190000
LOCATION:Room 3301 (via lifts 17-18), Academic Building, HKUST
SUMMARY:MPhil in Social Science - Does Media Reporting on Corruption Have a Destabilizing Effect?
UID:25558
END:VEVENT
END:VCALENDAR