BEGIN:VCALENDAR
PRODID:-//HKUST Drupal Platform//EN
VERSION:2.0
BEGIN:VTIMEZONE
TZID:Asia/Hong_Kong
BEGIN:STANDARD
DTSTART:20071104T020000
TZOFFSETFROM:+0700
TZOFFSETTO:+0800
TZNAME:HKT
END:STANDARD
END:VTIMEZONE
BEGIN:VEVENT
DTSTAMP;TZID=Asia/Hong_Kong:20260423T090325
DTSTART;TZID=Asia/Hong_Kong:20170818T093000
DTEND;TZID=Asia/Hong_Kong:20170818T123000
LOCATION:Room 5620 (Lifts 31-32), 5/F Academic Building, HKUST
SUMMARY:PhD in Electronic & Comp Engg - Demand-Side Management for Ancillary Services Provision in Smart Grid
UID:25557
END:VEVENT
END:VCALENDAR